BEGIN:VCALENDAR
VERSION:2.0
PRODID:-//The Hidden Genius Project - ECPv6.15.20//NONSGML v1.0//EN
CALSCALE:GREGORIAN
METHOD:PUBLISH
X-WR-CALNAME:The Hidden Genius Project
X-ORIGINAL-URL:https://www.hiddengeniusproject.org
X-WR-CALDESC:Events for The Hidden Genius Project
REFRESH-INTERVAL;VALUE=DURATION:PT1H
X-Robots-Tag:noindex
X-PUBLISHED-TTL:PT1H
BEGIN:VTIMEZONE
TZID:America/Los_Angeles
BEGIN:DAYLIGHT
TZOFFSETFROM:-0800
TZOFFSETTO:-0700
TZNAME:PDT
DTSTART:20240310T100000
END:DAYLIGHT
BEGIN:STANDARD
TZOFFSETFROM:-0700
TZOFFSETTO:-0800
TZNAME:PST
DTSTART:20241103T090000
END:STANDARD
BEGIN:DAYLIGHT
TZOFFSETFROM:-0800
TZOFFSETTO:-0700
TZNAME:PDT
DTSTART:20250309T100000
END:DAYLIGHT
BEGIN:STANDARD
TZOFFSETFROM:-0700
TZOFFSETTO:-0800
TZNAME:PST
DTSTART:20251102T090000
END:STANDARD
BEGIN:DAYLIGHT
TZOFFSETFROM:-0800
TZOFFSETTO:-0700
TZNAME:PDT
DTSTART:20260308T100000
END:DAYLIGHT
BEGIN:STANDARD
TZOFFSETFROM:-0700
TZOFFSETTO:-0800
TZNAME:PST
DTSTART:20261101T090000
END:STANDARD
END:VTIMEZONE
BEGIN:VEVENT
DTSTART;TZID=America/Los_Angeles:20250217T130000
DTEND;TZID=America/Los_Angeles:20250217T180000
DTSTAMP:20260425T091921
CREATED:20250215T011811Z
LAST-MODIFIED:20250215T011811Z
UID:10000016-1739797200-1739815200@www.hiddengeniusproject.org
SUMMARY:Illustrating in Adobe
DESCRIPTION:Explore your creativity with industry-standard tools at our Ubuntu Center. Stop in on Mondays throughout the month for a hands-on illustration workshop using Adobe. This workshop is FREE for all Ubuntu Center members. Click HERE to sign up today.
URL:https://www.hiddengeniusproject.org/calendar/021725-illustrating-in-adobe/
LOCATION:Ubuntu Center at The Hidden Genius Project\, 1441 Franklin Street\, 2nd Floor\, Oakland\, CA\, 94612
CATEGORIES:UBUNTU CENTER
ATTACH;FMTTYPE=image/png:https://www.hiddengeniusproject.org/wp-content/uploads/2025/01/ubuntu-workshop-illustrate.png
END:VEVENT
BEGIN:VEVENT
DTSTART;TZID=America/Los_Angeles:20250219T130000
DTEND;TZID=America/Los_Angeles:20250219T180000
DTSTAMP:20260425T091921
CREATED:20250130T182146Z
LAST-MODIFIED:20250215T010308Z
UID:10000009-1739970000-1739988000@www.hiddengeniusproject.org
SUMMARY:Podcast Workshop
DESCRIPTION:Join our newly launched Podcasting Cohort\, giving you the chance to develop your voice and share your story with the world. This is a FREE workshop for current Ubuntu Center members. Click HERE to sign up.\n\nThe Ubuntu Center at The Hidden Genius Project is a Best Buy Teen Tech Center® and member of The Clubhouse Network.
URL:https://www.hiddengeniusproject.org/calendar/podcast-workshop/
LOCATION:Ubuntu Center at The Hidden Genius Project\, 1441 Franklin Street\, 2nd Floor\, Oakland\, CA\, 94612
CATEGORIES:UBUNTU CENTER
ATTACH;FMTTYPE=image/png:https://www.hiddengeniusproject.org/wp-content/uploads/2025/01/ubuntu-workshop-podcast.png
END:VEVENT
BEGIN:VEVENT
DTSTART;VALUE=DATE:20250221
DTEND;VALUE=DATE:20250222
DTSTAMP:20260425T091921
CREATED:20250128T104958Z
LAST-MODIFIED:20250128T104958Z
UID:10000006-1740096000-1740182399@www.hiddengeniusproject.org
SUMMARY:Immersion Program Applications Due
DESCRIPTION:Applications due for The Hidden Genius Project’s Intensive Immersion Program. This free\, 15-month program offers 800+ hours of mentorship\, coding\, and entrepreneurship training\, empowering participants to become leaders equipped with tech skills and a passion for solving real-world challenges. \nELIGIBILITY: \n\nBlack males\nRising 9th\, 10th\, and 11th Graders\n15-month commitment\n\nApplications are now being accepted in Oakland\, Richmond\, Los Angeles\, Detroit\, Chicago\, Atlanta\, and Baltimore. Deadline to apply: Friday\, February 21\, 2025 \nCLICK HERE to learn more and apply.
URL:https://www.hiddengeniusproject.org/calendar/immersion-program-application-2025/
LOCATION:PA
CATEGORIES:INTENSIVE IMMERSION PROGRAM
ATTACH;FMTTYPE=image/png:https://www.hiddengeniusproject.org/wp-content/uploads/2025/01/immersion-calendar.png
END:VEVENT
END:VCALENDAR