BEGIN:VCALENDAR
VERSION:2.0
PRODID:-//The Hidden Genius Project - ECPv6.15.20//NONSGML v1.0//EN
CALSCALE:GREGORIAN
METHOD:PUBLISH
X-ORIGINAL-URL:https://www.hiddengeniusproject.org
X-WR-CALDESC:Events for The Hidden Genius Project
REFRESH-INTERVAL;VALUE=DURATION:PT1H
X-Robots-Tag:noindex
X-PUBLISHED-TTL:PT1H
BEGIN:VTIMEZONE
TZID:America/Los_Angeles
BEGIN:DAYLIGHT
TZOFFSETFROM:-0800
TZOFFSETTO:-0700
TZNAME:PDT
DTSTART:20240310T100000
END:DAYLIGHT
BEGIN:STANDARD
TZOFFSETFROM:-0700
TZOFFSETTO:-0800
TZNAME:PST
DTSTART:20241103T090000
END:STANDARD
BEGIN:DAYLIGHT
TZOFFSETFROM:-0800
TZOFFSETTO:-0700
TZNAME:PDT
DTSTART:20250309T100000
END:DAYLIGHT
BEGIN:STANDARD
TZOFFSETFROM:-0700
TZOFFSETTO:-0800
TZNAME:PST
DTSTART:20251102T090000
END:STANDARD
BEGIN:DAYLIGHT
TZOFFSETFROM:-0800
TZOFFSETTO:-0700
TZNAME:PDT
DTSTART:20260308T100000
END:DAYLIGHT
BEGIN:STANDARD
TZOFFSETFROM:-0700
TZOFFSETTO:-0800
TZNAME:PST
DTSTART:20261101T090000
END:STANDARD
END:VTIMEZONE
BEGIN:VEVENT
DTSTART;TZID=America/Los_Angeles:20251213T080000
DTEND;TZID=America/Los_Angeles:20251213T140000
DTSTAMP:20260423T161445
CREATED:20250328T171504Z
LAST-MODIFIED:20251106T212211Z
UID:10000461-1765612800-1765634400@www.hiddengeniusproject.org
SUMMARY:Brothers Code 2025
DESCRIPTION:Brothers Code is an innovative hands-on event hosted by The Hidden Genius Project as part of the larger Hour of Code initiative focused on introducing people all across the world to the basics of coding education during Computer Science Education Week. Our 13th Annual Brothers Code event will take place on Saturday\, December 13\, 2025 in multiple cities across the country. \nBrothers Code workshops are led by The Hidden Genius Project Youth Educators. Young people of all backgrounds in middle and high school are welcome to attend. Boys and young men of color are encouraged to participate and learn about the skills and networks that can guide them to exciting opportunities and careers within the technology sector. \nAdditionally\, we host a concurrent program for parents\, guardians\, educators\, counselors\, administrators\, and adult champions interested in learning how they might support young people to pursue technology pathways. \n\n\nSelect a city below to register in your area: \nATLANTA // BALTIMORE // BAY AREA // CHICAGO // DETROIT // LOS ANGELES // PHILADELPHIA \n \n\nClick HERE to subscribe for our newsletter and receive updates.
URL:https://www.hiddengeniusproject.org/calendar/2025-brothers-code/
CATEGORIES:CATALYST
ATTACH;FMTTYPE=image/png:https://www.hiddengeniusproject.org/wp-content/uploads/2025/03/brothers-code-general-flyer-800.png
END:VEVENT
BEGIN:VEVENT
DTSTART;TZID=America/Los_Angeles:20250322T100000
DTEND;TZID=America/Los_Angeles:20250322T163000
DTSTAMP:20260423T161445
CREATED:20250215T003124Z
LAST-MODIFIED:20250311T154329Z
UID:10000011-1742637600-1742661000@www.hiddengeniusproject.org
SUMMARY:SMASH AI Innovation Challenge
DESCRIPTION:Click HERE to register\n \nClick HERE to register
URL:https://www.hiddengeniusproject.org/calendar/smash-ai-innovation-challenge/
LOCATION:Kapor Center\, 2148 Broadway\, Oakland\, CA\, 94612\, United States
CATEGORIES:CATALYST
ATTACH;FMTTYPE=image/png:https://www.hiddengeniusproject.org/wp-content/uploads/2025/02/smash-event-listing.png
END:VEVENT
END:VCALENDAR